BEGIN:VCALENDAR
VERSION:2.0
PRODID:-//ChamberMaster//Event Calendar 2.0//EN
METHOD:PUBLISH
X-PUBLISHED-TTL:P3D
REFRESH-INTERVAL:P3D
CALSCALE:GREGORIAN
BEGIN:VEVENT
DTSTART:20160324T210000Z
DTEND:20160324T230000Z
X-MICROSOFT-CDO-ALLDAYEVENT:FALSE
SUMMARY:Ribbon Cutting at Smoochie Pooch
DESCRIPTION:Please join us for the Ribbon Cutting of Smoochie Pooch
X-ALT-DESC;FMTTYPE=text/html:<span style="font-size:18px\;"><span style="color:#0000FF\;"><span style="font-family:courier new\;">Please join us for the Ribbon Cutting of Smoochie Pooch&nbsp\;</span></span></span>
LOCATION:3311 Willowcreek Rd Portage\, IN
UID:e.2587.4
SEQUENCE:3
DTSTAMP:20260423T085046Z
URL:https://business.portageinchamber.com/events/details/ribbon-cutting-at-smoochie-pooch-03-24-2016-4
END:VEVENT

END:VCALENDAR
