BEGIN:VCALENDAR
VERSION:2.0
PRODID:-//ChamberMaster//Event Calendar 2.0//EN
METHOD:PUBLISH
X-PUBLISHED-TTL:P3D
REFRESH-INTERVAL:P3D
CALSCALE:GREGORIAN
BEGIN:VEVENT
DTSTART:20160316T213000Z
DTEND:20160316T223000Z
X-MICROSOFT-CDO-ALLDAYEVENT:FALSE
SUMMARY:Ribbon Cutting at Jacob's Ladder
DESCRIPTION:
X-ALT-DESC;FMTTYPE=text/html:
LOCATION:1595 S. Calumet Rd. Suite #3 Chesterton\, IN
UID:e.2587.5
SEQUENCE:3
DTSTAMP:20260423T085445Z
URL:https://business.portageinchamber.com/events/details/ribbon-cutting-at-jacob-s-ladder-03-16-2016-5
END:VEVENT

END:VCALENDAR
