BEGIN:VCALENDAR
VERSION:2.0
PRODID:-//ChamberMaster//Event Calendar 2.0//EN
METHOD:PUBLISH
X-PUBLISHED-TTL:P3D
REFRESH-INTERVAL:P3D
CALSCALE:GREGORIAN
BEGIN:VEVENT
DTSTART:20160229T220000Z
DTEND:20160301T000000Z
X-MICROSOFT-CDO-ALLDAYEVENT:FALSE
SUMMARY:Ribbon Cutting at Caring Hearts Adult Day Care
DESCRIPTION:Please join us for the Ribbon Cutting at Caring Hearts Adult Day Care.
X-ALT-DESC;FMTTYPE=text/html:Please join us for the Ribbon Cutting at Caring Hearts Adult Day Care.&nbsp\;
LOCATION:3391 Airport Rd. Portage\, IN 46368
UID:e.2587.3
SEQUENCE:3
DTSTAMP:20260423T104433Z
URL:https://business.portageinchamber.com/events/details/ribbon-cutting-at-caring-hearts-adult-day-care-02-29-2016-3
END:VEVENT

END:VCALENDAR
