BEGIN:VCALENDAR
VERSION:2.0
PRODID:-//ChamberMaster//Event Calendar 2.0//EN
METHOD:PUBLISH
X-PUBLISHED-TTL:P3D
REFRESH-INTERVAL:P3D
CALSCALE:GREGORIAN
BEGIN:VEVENT
DTSTART:20250424T220000Z
DTEND:20250424T233000Z
X-MICROSOFT-CDO-ALLDAYEVENT:FALSE
SUMMARY:PTS Cultural Fair
DESCRIPTION:MARK YOUR CALENDARS for the PTS Cultural Fair on April 24th at PHS Field House! From 5:00-6:30pm\, immerse yourself in a vibrant celebration of our community!\n\nTry foods from around the world\, enjoy captivating performances\, create beautiful art\, and participate in fun activities for all ages! Join PTS staff and families for this unforgettable evening that showcases the rich cultural tapestry of Portage.\n\nDon't miss this chance to explore\, learn\, and celebrate together!
X-ALT-DESC;FMTTYPE=text/html:<p style="color: rgb(34\, 34\, 34)\; font-family: Arial\, Helvetica\, sans-serif\; font-size: small\; background-color: rgb(255\, 255\, 255)\;">MARK YOUR CALENDARS for the PTS Cultural Fair on April 24th at PHS Field House! From 5:00-6:30pm\, immerse yourself in a vibrant celebration of our community!</p>\n\n<p style="color: rgb(34\, 34\, 34)\; font-family: Arial\, Helvetica\, sans-serif\; font-size: small\; background-color: rgb(255\, 255\, 255)\;">Try foods from around the world\, enjoy captivating performances\, create beautiful art\, and participate in fun activities for all ages! Join PTS staff and families for this unforgettable evening that showcases the rich cultural tapestry of Portage.</p>\n\n<p style="color: rgb(34\, 34\, 34)\; font-family: Arial\, Helvetica\, sans-serif\; font-size: small\; background-color: rgb(255\, 255\, 255)\;">Don&#39\;t miss this chance to explore\, learn\, and celebrate together!</p>\n
LOCATION:Portage High School Field House 6450 US Hwy 6\, Portage\, IN
UID:e.2587.6010
SEQUENCE:3
DTSTAMP:20260425T133241Z
URL:https://business.portageinchamber.com/events/details/pts-cultural-fair-6010
END:VEVENT

END:VCALENDAR
