BEGIN:VCALENDAR
VERSION:2.0
PRODID:-//ChamberMaster//Event Calendar 2.0//EN
METHOD:PUBLISH
X-PUBLISHED-TTL:P3D
REFRESH-INTERVAL:P3D
CALSCALE:GREGORIAN
BEGIN:VEVENT
DTSTART:20160415T220000Z
DTEND:20160416T020000Z
X-MICROSOFT-CDO-ALLDAYEVENT:FALSE
SUMMARY:Portage Township Education Foundation Brew Fest
DESCRIPTION:The Portage Township Education Foundation will be hosting their Annual Wine Tasting & Silent Auction
X-ALT-DESC;FMTTYPE=text/html:The Portage Township Education Foundation will be hosting their Annual Wine Tasting &amp\; Silent Auction&nbsp\;
LOCATION:Woodland Park Portage\, IN
UID:e.2587.152
SEQUENCE:3
DTSTAMP:20260423T085558Z
URL:https://business.portageinchamber.com/events/details/portage-township-education-foundation-brew-fest-04-15-2016-152
END:VEVENT

END:VCALENDAR
