BEGIN:VCALENDAR
VERSION:2.0
PRODID:-//ChamberMaster//Event Calendar 2.0//EN
METHOD:PUBLISH
X-PUBLISHED-TTL:P3D
REFRESH-INTERVAL:P3D
CALSCALE:GREGORIAN
BEGIN:VEVENT
DTSTART:20160421T210000Z
DTEND:20160422T000000Z
X-MICROSOFT-CDO-ALLDAYEVENT:FALSE
SUMMARY:Portage Community & Business Night-2016
DESCRIPTION:Let the Portage Chamber of Commerce help your business bloom and grow at the 13th Annual Portage Community and Business Night.  This event offers your business the chance to showcase your services or products to over 750 people in the Portage community.  This is a fantastic opportunity to expose your business to over 100 local business owners.
X-ALT-DESC;FMTTYPE=text/html:<span style="color: rgb(1\, 69\, 106)\; font-family: Georgia\, 'Times New Roman'\, Times\, serif\; font-size: 13.3333px\; background-color: rgb(255\, 255\, 255)\;">Let the Portage Chamber of Commerce help your business bloom and grow at the 13th Annual Portage Community and Business Night.&nbsp\; This event offers your business the chance to showcase your services or products to over 750 people in the Portage community.&nbsp\; This is a fantastic opportunity to expose your business to over 100 local business owners.</span>
LOCATION:Woodland Park 2100 Willowcreek Road Portage\, IN 46368
UID:e.2587.1
SEQUENCE:3
DTSTAMP:20260423T090923Z
URL:https://business.portageinchamber.com/events/details/portage-community-business-night-2016-04-21-2016-1
END:VEVENT

END:VCALENDAR
