BEGIN:VCALENDAR
VERSION:2.0
PRODID:-//ChamberMaster//Event Calendar 2.0//EN
METHOD:PUBLISH
X-PUBLISHED-TTL:P3D
REFRESH-INTERVAL:P3D
CALSCALE:GREGORIAN
BEGIN:VEVENT
DTSTART:20160310T133000Z
DTEND:20160310T143000Z
X-MICROSOFT-CDO-ALLDAYEVENT:FALSE
SUMMARY:March Rise Shine and Share
DESCRIPTION:Rise Shine and Share Portage offers Portage Chamber members an opportunity to share their ideas\, business strategies and successes\, and to exchange business referrals.  The goal of the program is to increase business for our members.
X-ALT-DESC;FMTTYPE=text/html:<span style="color: rgb(85\, 85\, 85)\; font-family: Arial\, Helvetica\, sans-serif\; font-size: 16px\; line-height: normal\;">Rise Shine and Share Portage offers Portage Chamber members an opportunity to share their ideas\, business strategies and successes\, and to exchange business referrals</span><span style="color: rgb(85\, 85\, 85)\; font-family: Arial\, Helvetica\, sans-serif\; font-size: 16px\; line-height: normal\;">.&nbsp\;</span><span style="color: rgb(85\, 85\, 85)\; font-family: Arial\, Helvetica\, sans-serif\; font-size: 16px\; line-height: normal\;">&nbsp\;The goal of the program is to increase business for our members.</span>
LOCATION:Best Western 6200 Melton Rd Portage\, IN
UID:e.2587.7
SEQUENCE:3
DTSTAMP:20260423T085046Z
URL:https://business.portageinchamber.com/events/details/march-rise-shine-and-share-03-10-2016-7
END:VEVENT

END:VCALENDAR
