BEGIN:VCALENDAR
VERSION:2.0
PRODID:-//ChamberMaster//Event Calendar 2.0//EN
METHOD:PUBLISH
X-PUBLISHED-TTL:P3D
REFRESH-INTERVAL:P3D
CALSCALE:GREGORIAN
BEGIN:VEVENT
DTSTART:20160323T210000Z
DTEND:20160323T230000Z
X-MICROSOFT-CDO-ALLDAYEVENT:FALSE
SUMMARY:March MidWeek Mingle
DESCRIPTION:Come out\, relax\, and unwind with friends in a casual atmosphere.\n\nBring your business cards! \n\nFood and Drink will be provided.
X-ALT-DESC;FMTTYPE=text/html:<div class="ContentMinWidth" style="color: rgb(113\, 113\, 113)\; font-family: Arial\, Helvetica\, sans-serif\; font-size: 16px\; line-height: 24px\; text-align: -webkit-center\; min-width: 280px\;">Come out\, relax\, and unwind with friends in a casual atmosphere.<br />\nBring your business cards!&nbsp\;</div>\n\n<div class="ContentMinWidth" style="color: rgb(113\, 113\, 113)\; font-family: Arial\, Helvetica\, sans-serif\; font-size: 16px\; line-height: 24px\; text-align: -webkit-center\; min-width: 280px\;">Food and Drink will be provided.</div>\n
LOCATION:Regional Federal Credit Union 389 W. US Hwy 6 Valparaiso\, IN 46385
UID:e.2587.12
SEQUENCE:3
DTSTAMP:20260423T090421Z
URL:https://business.portageinchamber.com/events/details/march-midweek-mingle-03-23-2016-12
END:VEVENT

END:VCALENDAR
