BEGIN:VCALENDAR
VERSION:2.0
PRODID:-//ChamberMaster//Event Calendar 2.0//EN
METHOD:PUBLISH
X-PUBLISHED-TTL:P3D
REFRESH-INTERVAL:P3D
CALSCALE:GREGORIAN
BEGIN:VEVENT
DTSTART:20160317T163000Z
DTEND:20160317T180000Z
X-MICROSOFT-CDO-ALLDAYEVENT:FALSE
SUMMARY:March Chamber Luncheon
DESCRIPTION:Please join us for the \nGreater Portage Chamber of Commerce\n\nMarch Luncheon.\n\nGuest Speaker for the Luncheon will be a representative from the\n\nSport Resort.
X-ALT-DESC;FMTTYPE=text/html:<span style="font-size:18px\;"><strong>Please join us for the </strong></span>\n<div style="text-align: center\;"><span style="font-size:18px\;"><strong>Greater Portage Chamber of Commerce<br />\nMarch Luncheon.</strong></span></div>\n\n<h1 style="text-align: center\;"><span style="color:#0000CD\;"><strong><span style="font-size:18px\;">Guest Speaker for the Luncheon will be a representative from the<br />\nSport Resort.&nbsp\;</span></strong></span></h1>\n
LOCATION:Woodland Park 2100 Willowcreek Rd. Portage\, IN
UID:e.2587.6
SEQUENCE:3
DTSTAMP:20260423T085049Z
URL:https://business.portageinchamber.com/events/details/march-chamber-luncheon-03-17-2016-6
END:VEVENT

END:VCALENDAR
