BEGIN:VCALENDAR
VERSION:2.0
PRODID:-//ChamberMaster//Event Calendar 2.0//EN
METHOD:PUBLISH
X-PUBLISHED-TTL:P3D
REFRESH-INTERVAL:P3D
CALSCALE:GREGORIAN
BEGIN:VEVENT
DTSTART:20160327T160000Z
DTEND:20160327T190000Z
X-MICROSOFT-CDO-ALLDAYEVENT:FALSE
SUMMARY:Easter Brunch
DESCRIPTION:Enjoy a wonderful Easter Brunch with the whole family at The WaterBird. We offer a Lakeside Dining experience like no where else in Northwest Indiana. \n\n\n\nThis is a reservation only event so please call in advance so we can make every accommodation for you and your family.  We are accepting reservations from 11:00am - 2:00pm.\n\n\n\nPricing:\n\nAdults - $26.95\n\nSenior - $22.95\n\nChildren (4-12) - $14.95\n\n3 and Under - FREE\n\n\n\n* Pricing includes your choice of Coffee\, Iced Tea\, Orange Juice\, Cranberry Juice\, or Milk. \n\n* Pricing does not include tax & gratuity. \n\n\n\nAdults 21+ can enjoy our alcoholic beverage menu with Mimosas\, Bloody Mary's\, and more! \n\n\n\nEaster Brunch Menu to include:\n\n\n\nSeasonal Fresh Fruit\, Breakfast Pastries & Artisan Breads\, Assorted Salads and Salad Bar Toppings\, Honey Roasted Ham\, Made to Order Omelets\, Country Style Roasted Potatoes\, Chef Carved Roast Beef\, Pancakes & Syrup\, Scrambled Eggs\, Sausage/Bacon\, Buttered Sweet Corn\, Grilled Chicken Alfredo\, Seasonal Steamed Vegetable\, Baked White Fish\, & Assorted Desserts. Yummm!
X-ALT-DESC;FMTTYPE=text/html:<span style="color:rgb(78\, 86\, 101)\; font-family:helvetica\,arial\,sans-serif\; font-size:14px">Enjoy a wonderful <strong>Easter Brunch</strong> with the whole family at <a href="https://www.facebook.com/events/149859855401150/">The WaterBird</a>. We offer a Lakeside Dining experience like no where else in Northwest Indiana.&nbsp\;</span><br />\n<br />\n<span style="color:rgb(78\, 86\, 101)\; font-family:helvetica\,arial\,sans-serif\; font-size:14px">This is a reservation only event so please call in advance so we can make every accommodation for you and your family. &nbsp\;We are accepting reservations from 11:00am - 2:00pm.</span><br />\n<br />\n<strong><span style="color:rgb(78\, 86\, 101)\; font-family:helvetica\,arial\,sans-serif\; font-size:14px">Pricing:</span></strong><br />\n<span style="color:rgb(78\, 86\, 101)\; font-family:helvetica\,arial\,sans-serif\; font-size:14px">Adults - $26.95</span><br />\n<span style="color:rgb(78\, 86\, 101)\; font-family:helvetica\,arial\,sans-serif\; font-size:14px">Senior - $22.95</span><br />\n<span style="color:rgb(78\, 86\, 101)\; font-family:helvetica\,arial\,sans-serif\; font-size:14px">Children (4-12) - $14.95</span><br />\n<span style="color:rgb(78\, 86\, 101)\; font-family:helvetica\,arial\,sans-serif\; font-size:14px">3 and Under - FREE</span><br />\n<br />\n<em><span style="color:rgb(78\, 86\, 101)\; font-family:helvetica\,arial\,sans-serif\; font-size:14px">* Pricing includes your choice of Coffee\, Iced Tea\, Orange Juice\, Cranberry Juice\, or Milk.&nbsp\;</span><br />\n<span style="color:rgb(78\, 86\, 101)\; font-family:helvetica\,arial\,sans-serif\; font-size:14px">* Pricing does not include tax &amp\; gratuity.&nbsp\;</span></em><br />\n<br />\n<span style="color:rgb(78\, 86\, 101)\; font-family:helvetica\,arial\,sans-serif\; font-size:14px">Adults 21+ can enjoy our alcoholic beverage menu with Mimosas\, Bloody Mary&#39\;s\, and more!&nbsp\;<br />\n<br />\n<strong>Easter Brunch Menu to include:</strong><br />\n<br />\n<em>Seasonal Fresh Fruit\, Breakfast Pastries &amp\; Artisan Breads\, Assorted Salads and Salad Bar Toppings\, Honey Roasted Ham\, Made to Order Omelets\, Country Style Roasted Potatoes\, Chef Carved Roast Beef\, Pancakes &amp\; Syrup\, Scrambled Eggs\, Sausage/Bacon\, Buttered Sweet Corn\, Grilled Chicken Alfredo\, Seasonal Steamed Vegetable\, Baked White Fish\, &amp\; Assorted Desserts. Yummm!</em></span>
LOCATION:WaterBird Lakeside Banquet Center 526 Indian Boundary Road Chesterton\, IN 46304
UID:e.2587.11
SEQUENCE:3
DTSTAMP:20260423T090354Z
URL:https://business.portageinchamber.com/events/details/easter-brunch-03-27-2016-11
END:VEVENT

END:VCALENDAR
