BEGIN:VCALENDAR
VERSION:2.0
PRODID:-//ChamberMaster//Event Calendar 2.0//EN
METHOD:PUBLISH
X-PUBLISHED-TTL:P3D
REFRESH-INTERVAL:P3D
CALSCALE:GREGORIAN
BEGIN:VEVENT
DTSTART;VALUE=DATE:20260510
DTEND;VALUE=DATE:20260511
TRANSP:TRANSPARENT
X-MICROSOFT-CDO-ALLDAYEVENT:TRUE
SUMMARY:Community Compass: Issue 8
DESCRIPTION:Community Compass Magazine provides an in-depth look at the originality\, inspiration and professionalism of the members of the Greater Portage Chamber of Commerce. Advertising in this publication is an advantage to Greater Portage Chamber of Commerce Members. Published since 2024 by the Chamber\, more than 10\,000 copies are direct-mailed to households and businesses in the Greater Portage Area. Additional publications are distributed to area hotels\, restaurants\, doctor's offices and more!\n\n\n\nThis is a 24-page\, full-color magazine published quarterly.\n\n\n\nPlease complete the AD AGREEMENT form and email to nsimpson@portageinchamber.com\, mail to Greater Portage Chamber of Commerce\, 6340 E. Main St.\, Portage\, IN 46368 or drop off at our office\, Monday through Friday\, 9:00 AM to 4:00 PM.\n\n\n\nQuestions?\n\nGive us a call at (219) 762-3300
X-ALT-DESC;FMTTYPE=text/html:<span style="font-family: tahoma\; font-size: 14px\;">Community Compass Magazine provides an in-depth look at the originality\, inspiration and professionalism of the members of the Greater Portage Chamber of Commerce. Advertising in this publication is an advantage to Greater Portage Chamber of Commerce Members. Published since 2024 by the Chamber\, more than 10\,000 copies are direct-mailed to households and businesses in the Greater Portage Area. Additional publications are distributed to area hotels\, restaurants\, doctor&#39\;s offices and more!</span><br style="font-family: tahoma\; font-size: 14px\;" />\n<br style="font-family: tahoma\; font-size: 14px\;" />\n<span style="font-family: tahoma\; font-size: 14px\;">This is a 24-page\, full-color magazine published quarterly.</span><br />\n<br />\n<span style="font-size:14px\;"><span style="font-family:tahoma\;">Please complete the <strong><a href="https://chambermaster.blob.core.windows.net/userfiles/UserFiles/chambers/2587/File/2026AdAgreement-FIllablePDF.pdf">AD AGREEMENT</a>&nbsp\;</strong>form and email to <a href="mailto:nsimpson@portageinchamber.com?subject=Magazine%20Ads">nsimpson</a><a href="mailto:info@portageinchamber.com">@portageinchamber.com</a>\, mail to Greater Portage Chamber of Commerce\, 6340 E. Main St.\, Portage\, IN 46368 or drop off at our office\, Monday through Friday\, 9:00 AM to 4:00 PM.<br />\n<br />\n<strong>Questions?</strong><br />\nGive us a call at (219) 762-3300</span></span>
LOCATION:Mailbox delivery to all homes and storefronts in the 46368 and 46385 zip codes. 10\,000 copies are ordered with the extras being hand delivered to waiting rooms throughout the community as well as being disbursed at Chamber events.
UID:e.2587.6115
SEQUENCE:3
DTSTAMP:20260421T190131Z
URL:https://business.portageinchamber.com/events/details/community-compass-issue-8-6115
END:VEVENT

END:VCALENDAR
